BEGIN:VCALENDAR
PRODID:-//eluceo/ical//2.0/EN
VERSION:2.0
CALSCALE:GREGORIAN
BEGIN:VEVENT
UID:f73cd72ff24df4480e211511716e2b88
DTSTAMP:20260423T083910Z
SUMMARY:BANQUE ALIMENTAIRE
DESCRIPTION:Site internet: https://www.banquealimentaire.org/\nConférencie
 r(s): Un moment solidaire essentiel pour faire face à la hausse de la dem
 andeLa Collecte Nationale est le rendez-vous solidaire des Banques Alimen
 taires durant lequel plus de 130.000 bénévoles\, mobilisés le temps d
 ’un week-end\, collectent des denrées alimentaires dans plus de 9.000 p
 oints de collecte à travers toute la France : magasins\, écoles\, mairie
 s\, entreprises... tous sont mobilisés au profit de l’association. Ch
 aque année\, la Collecte Nationale des Banques Alimentaires permet de ré
 colter près de 11.500 tonnes de denrées alimentaires\, soit l’équiv
 alent de 23 millions de repas. Cette année\, conséquences directes de l
 a crise sanitaire\, le réseau des Banques Alimentaires fait face à une 
 hausse de 20 à 25% de la demande d'aide alimentaire et une baisse de se
 s stocks de 23% par rapport à la même période en 2019. Tout particuli
 èrement cruciale cette année\, la Collecte Nationale doit donc être une
  réussite afin que le réseau puisse soutenir l'ensemble de ses bénéfic
 iaires. 
URL:https://firminy-gorges-de-la-loire.rotary1710.org/fr/agenda/show/26252
DTSTART;TZID=Europe/Zurich:20211126T090000
DTEND;TZID=Europe/Zurich:20211127T180000
LOCATION:Casino d'Aurec
CATEGORIES:Rotary
END:VEVENT
BEGIN:VTIMEZONE
TZID:Europe/Zurich
BEGIN:STANDARD
DTSTART:20211126T090000
TZNAME:CET
TZOFFSETTO:+0100
TZOFFSETFROM:+0100
END:STANDARD
END:VTIMEZONE
END:VCALENDAR
